Package: ShortRead Version: 1.60.0 Command: rm -rf ShortRead.buildbin-libdir && mkdir ShortRead.buildbin-libdir && /Users/biocbuild/BBS/utils/build-universal.sh ShortRead_1.60.0.tar.gz /Library/Frameworks/R.framework/Resources/bin/R ShortRead.buildbin-libdir StartedAt: 2024-04-16 12:44:18 -0400 (Tue, 16 Apr 2024) EndedAt: 2024-04-16 12:46:15 -0400 (Tue, 16 Apr 2024) EllapsedTime: 116.8 seconds RetCode: 0 Status: OK PackageFile: ShortRead_1.60.0.tgz PackageFileSize: 5.388 MiB