Package: SiPSiC Version: 1.2.0 Command: /home/biocbuild/R/R-4.3.1/bin/R CMD INSTALL SiPSiC StartedAt: 2023-11-01 20:15:27 -0000 (Wed, 01 Nov 2023) EndedAt: 2023-11-01 20:15:59 -0000 (Wed, 01 Nov 2023) EllapsedTime: 31.7 seconds RetCode: 0 Status: OK