Package: SiPSiC Version: 1.2.2 Command: /Library/Frameworks/R.framework/Resources/bin/R CMD INSTALL SiPSiC StartedAt: 2024-04-15 15:21:01 -0400 (Mon, 15 Apr 2024) EndedAt: 2024-04-15 15:21:56 -0400 (Mon, 15 Apr 2024) EllapsedTime: 55.3 seconds RetCode: 0 Status: OK