Package: SiPSiC Version: 1.2.2 Command: /home/biocbuild/bbs-3.18-bioc/R/bin/R CMD check --install=check:SiPSiC.install-out.txt --library=/home/biocbuild/bbs-3.18-bioc/R/site-library --timings SiPSiC_1.2.2.tar.gz StartedAt: 2024-04-16 04:03:20 -0400 (Tue, 16 Apr 2024) EndedAt: 2024-04-16 04:06:07 -0400 (Tue, 16 Apr 2024) EllapsedTime: 167.7 seconds RetCode: 0 Status: OK CheckDir: SiPSiC.Rcheck Warnings: 0