Package: SiPSiC Version: 1.2.2 Command: /home/biocbuild/bbs-3.18-bioc/R/bin/R CMD INSTALL SiPSiC StartedAt: 2024-04-15 15:14:46 -0400 (Mon, 15 Apr 2024) EndedAt: 2024-04-15 15:15:08 -0400 (Mon, 15 Apr 2024) EllapsedTime: 22.6 seconds RetCode: 0 Status: OK