Package: SiPSiC Version: 1.2.2 Command: chmod a+r SiPSiC -R && F:\biocbuild\bbs-3.18-bioc\R\bin\R.exe CMD build --keep-empty-dirs --no-resave-data SiPSiC StartedAt: 2024-04-15 21:14:51 -0400 (Mon, 15 Apr 2024) EndedAt: 2024-04-15 21:15:28 -0400 (Mon, 15 Apr 2024) EllapsedTime: 36.8 seconds RetCode: 0 Status: OK PackageFile: SiPSiC_1.2.2.tar.gz PackageFileSize: 236.4 KiB