Package: SimBu Version: 1.4.3 Command: /Library/Frameworks/R.framework/Resources/bin/R CMD check --install=check:SimBu.install-out.txt --library=/Library/Frameworks/R.framework/Resources/library --no-vignettes --timings SimBu_1.4.3.tar.gz StartedAt: 2024-03-03 23:31:10 -0500 (Sun, 03 Mar 2024) EndedAt: 2024-03-03 23:34:35 -0500 (Sun, 03 Mar 2024) EllapsedTime: 205.3 seconds RetCode: 0 Status: OK CheckDir: SimBu.Rcheck Warnings: 0