Package: SimBu Version: 1.4.3 Command: rm -rf SimBu.buildbin-libdir && mkdir SimBu.buildbin-libdir && /Users/biocbuild/BBS/utils/build-universal.sh SimBu_1.4.3.tar.gz /Library/Frameworks/R.framework/Resources/bin/R SimBu.buildbin-libdir StartedAt: 2024-04-16 12:45:01 -0400 (Tue, 16 Apr 2024) EndedAt: 2024-04-16 12:45:16 -0400 (Tue, 16 Apr 2024) EllapsedTime: 15.0 seconds RetCode: 0 Status: OK PackageFile: SimBu_1.4.3.tgz PackageFileSize: 321.6 KiB