Package: SimBu Version: 1.4.3 Command: /Library/Frameworks/R.framework/Resources/bin/R CMD check --install=check:SimBu.install-out.txt --library=/Library/Frameworks/R.framework/Resources/library --no-vignettes --timings SimBu_1.4.3.tar.gz StartedAt: 2024-04-16 08:59:34 -0400 (Tue, 16 Apr 2024) EndedAt: 2024-04-16 09:04:53 -0400 (Tue, 16 Apr 2024) EllapsedTime: 319.1 seconds RetCode: 0 Status: OK CheckDir: SimBu.Rcheck Warnings: 0