Package: SpatialExperiment Version: 1.12.0 Command: /home/biocbuild/R/R-4.3.1/bin/R CMD build --keep-empty-dirs --no-resave-data SpatialExperiment StartedAt: 2023-11-02 06:37:12 -0000 (Thu, 02 Nov 2023) EndedAt: 2023-11-02 06:38:36 -0000 (Thu, 02 Nov 2023) EllapsedTime: 83.9 seconds RetCode: 0 Status: OK PackageFile: SpatialExperiment_1.12.0.tar.gz PackageFileSize: 5.22 MiB