Package: Spectra Version: 1.12.0 Command: /home/biocbuild/bbs-3.18-bioc/R/bin/R CMD INSTALL Spectra StartedAt: 2024-04-15 15:16:09 -0400 (Mon, 15 Apr 2024) EndedAt: 2024-04-15 15:16:23 -0400 (Mon, 15 Apr 2024) EllapsedTime: 14.2 seconds RetCode: 0 Status: OK