Package: Spectra Version: 1.12.0 Command: rm -rf Spectra.buildbin-libdir && mkdir Spectra.buildbin-libdir && F:\biocbuild\bbs-3.18-bioc\R\bin\R.exe CMD INSTALL --build --library=Spectra.buildbin-libdir Spectra_1.12.0.tar.gz StartedAt: 2024-04-16 07:44:37 -0400 (Tue, 16 Apr 2024) EndedAt: 2024-04-16 07:45:07 -0400 (Tue, 16 Apr 2024) EllapsedTime: 30.1 seconds RetCode: 0 Status: OK PackageFile: Spectra_1.12.0.zip PackageFileSize: 1.599 MiB