Package: Spectra Version: 1.12.0 Command: chmod a+r Spectra -R && F:\biocbuild\bbs-3.18-bioc\R\bin\R.exe CMD build --keep-empty-dirs --no-resave-data Spectra StartedAt: 2024-04-15 21:23:04 -0400 (Mon, 15 Apr 2024) EndedAt: 2024-04-15 21:25:01 -0400 (Mon, 15 Apr 2024) EllapsedTime: 117.0 seconds RetCode: 0 Status: OK PackageFile: Spectra_1.12.0.tar.gz PackageFileSize: 1.072 MiB