Package: SpectralTAD Version: 1.18.0 Command: rm -rf SpectralTAD.buildbin-libdir && mkdir SpectralTAD.buildbin-libdir && /Users/biocbuild/BBS/utils/build-universal.sh SpectralTAD_1.18.0.tar.gz /Library/Frameworks/R.framework/Resources/bin/R SpectralTAD.buildbin-libdir StartedAt: 2024-04-16 12:48:13 -0400 (Tue, 16 Apr 2024) EndedAt: 2024-04-16 12:48:39 -0400 (Tue, 16 Apr 2024) EllapsedTime: 25.9 seconds RetCode: 0 Status: OK PackageFile: SpectralTAD_1.18.0.tgz PackageFileSize: 1.471 MiB