Package: SpectralTAD Version: 1.18.0 Command: /Library/Frameworks/R.framework/Resources/bin/R CMD build --keep-empty-dirs --no-resave-data SpectralTAD StartedAt: 2024-04-15 22:15:51 -0400 (Mon, 15 Apr 2024) EndedAt: 2024-04-15 22:19:15 -0400 (Mon, 15 Apr 2024) EllapsedTime: 204.6 seconds RetCode: 0 Status: OK PackageFile: SpectralTAD_1.18.0.tar.gz PackageFileSize: 1.491 MiB