Package: SpliceWiz Version: 1.4.1 Command: rm -rf SpliceWiz.buildbin-libdir && mkdir SpliceWiz.buildbin-libdir && /Users/biocbuild/BBS/utils/build-universal.sh SpliceWiz_1.4.1.tar.gz /Library/Frameworks/R.framework/Resources/bin/R SpliceWiz.buildbin-libdir StartedAt: 2024-03-04 01:06:48 -0500 (Mon, 04 Mar 2024) EndedAt: 2024-03-04 01:09:37 -0500 (Mon, 04 Mar 2024) EllapsedTime: 169.3 seconds RetCode: 0 Status: OK PackageFile: SpliceWiz_1.4.1.tgz PackageFileSize: 5.529 MiB