Package: TBSignatureProfiler Version: 1.14.0 Command: rm -rf TBSignatureProfiler.buildbin-libdir && mkdir TBSignatureProfiler.buildbin-libdir && /Users/biocbuild/BBS/utils/build-universal.sh TBSignatureProfiler_1.14.0.tar.gz /Library/Frameworks/R.framework/Resources/bin/R TBSignatureProfiler.buildbin-libdir StartedAt: 2024-04-16 12:51:31 -0400 (Tue, 16 Apr 2024) EndedAt: 2024-04-16 12:51:43 -0400 (Tue, 16 Apr 2024) EllapsedTime: 12.0 seconds RetCode: 0 Status: OK PackageFile: TBSignatureProfiler_1.14.0.tgz PackageFileSize: 4.833 MiB