Package: TBSignatureProfiler Version: 1.14.0 Command: /Library/Frameworks/R.framework/Resources/bin/R CMD build --keep-empty-dirs --no-resave-data TBSignatureProfiler StartedAt: 2024-04-15 22:29:22 -0400 (Mon, 15 Apr 2024) EndedAt: 2024-04-15 22:31:24 -0400 (Mon, 15 Apr 2024) EllapsedTime: 122.1 seconds RetCode: 0 Status: OK PackageFile: TBSignatureProfiler_1.14.0.tar.gz PackageFileSize: 4.312 MiB