Package: TBSignatureProfiler Version: 1.14.0 Command: /Library/Frameworks/R.framework/Resources/bin/R CMD check --install=check:TBSignatureProfiler.install-out.txt --library=/Library/Frameworks/R.framework/Resources/library --no-vignettes --timings TBSignatureProfiler_1.14.0.tar.gz StartedAt: 2024-04-16 09:47:55 -0400 (Tue, 16 Apr 2024) EndedAt: 2024-04-16 09:53:01 -0400 (Tue, 16 Apr 2024) EllapsedTime: 305.7 seconds RetCode: 0 Status: OK CheckDir: TBSignatureProfiler.Rcheck Warnings: 0