Package: TCC Version: 1.42.0 Command: chmod a+r TCC -R && F:\biocbuild\bbs-3.18-bioc\R\bin\R.exe CMD build --keep-empty-dirs --no-resave-data TCC StartedAt: 2024-04-15 21:39:52 -0400 (Mon, 15 Apr 2024) EndedAt: 2024-04-15 21:43:43 -0400 (Mon, 15 Apr 2024) EllapsedTime: 230.3 seconds RetCode: 0 Status: OK PackageFile: TCC_1.42.0.tar.gz PackageFileSize: 1.376 MiB