Package: TCC Version: 1.42.0 Command: F:\biocbuild\bbs-3.18-bioc\R\bin\R.exe CMD INSTALL TCC StartedAt: 2024-04-15 15:56:26 -0400 (Mon, 15 Apr 2024) EndedAt: 2024-04-15 15:57:16 -0400 (Mon, 15 Apr 2024) EllapsedTime: 49.4 seconds RetCode: 0 Status: OK