Package: TDbasedUFEadv Version: 1.2.0 Command: /home/biocbuild/R/R-4.3.1/bin/R CMD INSTALL TDbasedUFEadv StartedAt: 2023-11-01 21:06:26 -0000 (Wed, 01 Nov 2023) EndedAt: 2023-11-01 21:07:43 -0000 (Wed, 01 Nov 2023) EllapsedTime: 77.6 seconds RetCode: 0 Status: OK