Package: TEKRABber Version: 1.6.0 Command: rm -rf TEKRABber.buildbin-libdir && mkdir TEKRABber.buildbin-libdir && /Users/biocbuild/BBS/utils/build-universal.sh TEKRABber_1.6.0.tar.gz /Library/Frameworks/R.framework/Resources/bin/R TEKRABber.buildbin-libdir StartedAt: 2024-03-04 01:08:22 -0500 (Mon, 04 Mar 2024) EndedAt: 2024-03-04 01:09:11 -0500 (Mon, 04 Mar 2024) EllapsedTime: 48.8 seconds RetCode: 0 Status: OK PackageFile: TEKRABber_1.6.0.tgz PackageFileSize: 3.255 MiB