Package: TEKRABber Version: 1.6.0 Command: /Library/Frameworks/R.framework/Resources/bin/R CMD check --install=check:TEKRABber.install-out.txt --library=/Library/Frameworks/R.framework/Resources/library --no-vignettes --timings TEKRABber_1.6.0.tar.gz StartedAt: 2024-03-03 23:53:59 -0500 (Sun, 03 Mar 2024) EndedAt: 2024-03-04 00:03:00 -0500 (Mon, 04 Mar 2024) EllapsedTime: 541.2 seconds RetCode: 0 Status: OK CheckDir: TEKRABber.Rcheck Warnings: 0