Package: TEKRABber Version: 1.6.0 Command: /home/biocbuild/bbs-3.18-bioc/R/bin/R CMD build --keep-empty-dirs --no-resave-data TEKRABber StartedAt: 2024-04-15 19:34:17 -0400 (Mon, 15 Apr 2024) EndedAt: 2024-04-15 19:35:57 -0400 (Mon, 15 Apr 2024) EllapsedTime: 99.7 seconds RetCode: 0 Status: OK PackageFile: TEKRABber_1.6.0.tar.gz PackageFileSize: 3.311 MiB