Package: TEKRABber Version: 1.6.0 Command: rm -rf TEKRABber.buildbin-libdir && mkdir TEKRABber.buildbin-libdir && F:\biocbuild\bbs-3.18-bioc\R\bin\R.exe CMD INSTALL --build --library=TEKRABber.buildbin-libdir TEKRABber_1.6.0.tar.gz StartedAt: 2024-04-16 07:47:29 -0400 (Tue, 16 Apr 2024) EndedAt: 2024-04-16 07:48:22 -0400 (Tue, 16 Apr 2024) EllapsedTime: 52.3 seconds RetCode: 0 Status: OK PackageFile: TEKRABber_1.6.0.zip PackageFileSize: 3.581 MiB