Package: TEKRABber Version: 1.6.0 Command: chmod a+r TEKRABber -R && F:\biocbuild\bbs-3.18-bioc\R\bin\R.exe CMD build --keep-empty-dirs --no-resave-data TEKRABber StartedAt: 2024-04-15 21:41:49 -0400 (Mon, 15 Apr 2024) EndedAt: 2024-04-15 21:43:41 -0400 (Mon, 15 Apr 2024) EllapsedTime: 112.6 seconds RetCode: 0 Status: OK PackageFile: TEKRABber_1.6.0.tar.gz PackageFileSize: 3.311 MiB