Package: TFBSTools Version: 1.40.0 Command: /Library/Frameworks/R.framework/Resources/bin/R CMD check --install=check:TFBSTools.install-out.txt --library=/Library/Frameworks/R.framework/Resources/library --no-vignettes --timings TFBSTools_1.40.0.tar.gz StartedAt: 2024-03-03 23:55:01 -0500 (Sun, 03 Mar 2024) EndedAt: 2024-03-04 00:01:45 -0500 (Mon, 04 Mar 2024) EllapsedTime: 403.5 seconds RetCode: 0 Status: OK CheckDir: TFBSTools.Rcheck Warnings: 0