Package: TFBSTools Version: 1.40.0 Command: rm -rf TFBSTools.buildbin-libdir && mkdir TFBSTools.buildbin-libdir && /Users/biocbuild/BBS/utils/build-universal.sh TFBSTools_1.40.0.tar.gz /Library/Frameworks/R.framework/Resources/bin/R TFBSTools.buildbin-libdir StartedAt: 2024-04-16 12:51:54 -0400 (Tue, 16 Apr 2024) EndedAt: 2024-04-16 12:53:46 -0400 (Tue, 16 Apr 2024) EllapsedTime: 111.7 seconds RetCode: 0 Status: OK PackageFile: TFBSTools_1.40.0.tgz PackageFileSize: 2.085 MiB