Package: TFBSTools Version: 1.40.0 Command: /Library/Frameworks/R.framework/Resources/bin/R CMD INSTALL TFBSTools StartedAt: 2024-04-15 15:35:36 -0400 (Mon, 15 Apr 2024) EndedAt: 2024-04-15 15:37:21 -0400 (Mon, 15 Apr 2024) EllapsedTime: 105.6 seconds RetCode: 0 Status: OK