Package: TFHAZ Version: 1.24.0 Command: /home/biocbuild/R/R-4.3.1/bin/R CMD build --keep-empty-dirs --no-resave-data TFHAZ StartedAt: 2023-11-02 07:03:01 -0000 (Thu, 02 Nov 2023) EndedAt: 2023-11-02 07:04:36 -0000 (Thu, 02 Nov 2023) EllapsedTime: 95.1 seconds RetCode: 0 Status: OK PackageFile: TFHAZ_1.24.0.tar.gz PackageFileSize: 2.56 MiB