Package: TFHAZ Version: 1.24.0 Command: /Library/Frameworks/R.framework/Resources/bin/R CMD check --install=check:TFHAZ.install-out.txt --library=/Library/Frameworks/R.framework/Resources/library --no-vignettes --timings TFHAZ_1.24.0.tar.gz StartedAt: 2024-03-03 23:55:18 -0500 (Sun, 03 Mar 2024) EndedAt: 2024-03-04 00:00:38 -0500 (Mon, 04 Mar 2024) EllapsedTime: 319.9 seconds RetCode: 0 Status: OK CheckDir: TFHAZ.Rcheck Warnings: 0