Package: TFHAZ Version: 1.24.0 Command: /Library/Frameworks/R.framework/Resources/bin/R CMD INSTALL TFHAZ StartedAt: 2024-03-03 15:22:05 -0500 (Sun, 03 Mar 2024) EndedAt: 2024-03-03 15:23:06 -0500 (Sun, 03 Mar 2024) EllapsedTime: 60.2 seconds RetCode: 0 Status: OK