Package: TFHAZ Version: 1.24.0 Command: /Library/Frameworks/R.framework/Resources/bin/R CMD check --install=check:TFHAZ.install-out.txt --library=/Library/Frameworks/R.framework/Resources/library --no-vignettes --timings TFHAZ_1.24.0.tar.gz StartedAt: 2024-04-16 09:52:53 -0400 (Tue, 16 Apr 2024) EndedAt: 2024-04-16 10:02:18 -0400 (Tue, 16 Apr 2024) EllapsedTime: 564.9 seconds RetCode: 0 Status: OK CheckDir: TFHAZ.Rcheck Warnings: 0