Package: TFHAZ Version: 1.24.0 Command: /home/biocbuild/bbs-3.18-bioc/R/bin/R CMD build --keep-empty-dirs --no-resave-data TFHAZ StartedAt: 2024-04-15 19:34:55 -0400 (Mon, 15 Apr 2024) EndedAt: 2024-04-15 19:36:03 -0400 (Mon, 15 Apr 2024) EllapsedTime: 68.2 seconds RetCode: 0 Status: OK PackageFile: TFHAZ_1.24.0.tar.gz PackageFileSize: 2.489 MiB