Package: TFHAZ Version: 1.24.0 Command: /home/biocbuild/bbs-3.18-bioc/R/bin/R CMD INSTALL TFHAZ StartedAt: 2024-04-15 15:32:40 -0400 (Mon, 15 Apr 2024) EndedAt: 2024-04-15 15:33:25 -0400 (Mon, 15 Apr 2024) EllapsedTime: 44.6 seconds RetCode: 0 Status: OK