Package: TIN Version: 1.34.0 Command: /home/biocbuild/R/R-4.3.1/bin/R CMD check --install=check:TIN.install-out.txt --library=/home/biocbuild/R/R-4.3.1/site-library --no-vignettes --timings TIN_1.34.0.tar.gz StartedAt: 2023-11-02 14:55:23 -0000 (Thu, 02 Nov 2023) EndedAt: 2023-11-02 14:59:39 -0000 (Thu, 02 Nov 2023) EllapsedTime: 256.4 seconds RetCode: 0 Status: OK CheckDir: TIN.Rcheck Warnings: 0