Package: TIN Version: 1.34.0 Command: rm -rf TIN.buildbin-libdir && mkdir TIN.buildbin-libdir && /Users/biocbuild/BBS/utils/build-universal.sh TIN_1.34.0.tar.gz /Library/Frameworks/R.framework/Resources/bin/R TIN.buildbin-libdir StartedAt: 2024-03-04 01:08:48 -0500 (Mon, 04 Mar 2024) EndedAt: 2024-03-04 01:09:22 -0500 (Mon, 04 Mar 2024) EllapsedTime: 34.1 seconds RetCode: 0 Status: OK PackageFile: TIN_1.34.0.tgz PackageFileSize: 4.565 MiB