Package: TIN Version: 1.34.0 Command: rm -rf TIN.buildbin-libdir && mkdir TIN.buildbin-libdir && F:\biocbuild\bbs-3.18-bioc\R\bin\R.exe CMD INSTALL --build --library=TIN.buildbin-libdir TIN_1.34.0.tar.gz StartedAt: 2024-04-16 07:48:12 -0400 (Tue, 16 Apr 2024) EndedAt: 2024-04-16 07:48:49 -0400 (Tue, 16 Apr 2024) EllapsedTime: 36.3 seconds RetCode: 0 Status: OK PackageFile: TIN_1.34.0.zip PackageFileSize: 4.564 MiB