Package: TOP Version: 1.2.0 Command: rm -rf TOP.buildbin-libdir && mkdir TOP.buildbin-libdir && /Users/biocbuild/BBS/utils/build-universal.sh TOP_1.2.0.tar.gz /Library/Frameworks/R.framework/Resources/bin/R TOP.buildbin-libdir StartedAt: 2024-03-04 01:09:04 -0500 (Mon, 04 Mar 2024) EndedAt: 2024-03-04 01:09:53 -0500 (Mon, 04 Mar 2024) EllapsedTime: 49.4 seconds RetCode: 0 Status: OK PackageFile: TOP_1.2.0.tgz PackageFileSize: 524.5 KiB