Package: TSCAN Version: 1.40.0 Command: /home/biocbuild/R/R-4.3.1/bin/R CMD INSTALL TSCAN StartedAt: 2023-11-01 20:34:50 -0000 (Wed, 01 Nov 2023) EndedAt: 2023-11-01 20:35:27 -0000 (Wed, 01 Nov 2023) EllapsedTime: 36.8 seconds RetCode: 0 Status: OK