Package: TSCAN Version: 1.40.1 Command: /Library/Frameworks/R.framework/Resources/bin/R CMD INSTALL TSCAN StartedAt: 2024-04-15 15:45:51 -0400 (Mon, 15 Apr 2024) EndedAt: 2024-04-15 15:46:48 -0400 (Mon, 15 Apr 2024) EllapsedTime: 56.9 seconds RetCode: 0 Status: OK