Package: TSCAN Version: 1.40.1 Command: chmod a+r TSCAN -R && F:\biocbuild\bbs-3.18-bioc\R\bin\R.exe CMD build --keep-empty-dirs --no-resave-data TSCAN StartedAt: 2024-04-15 21:50:41 -0400 (Mon, 15 Apr 2024) EndedAt: 2024-04-15 21:51:36 -0400 (Mon, 15 Apr 2024) EllapsedTime: 54.9 seconds RetCode: 0 Status: OK PackageFile: TSCAN_1.40.1.tar.gz PackageFileSize: 2.678 MiB