Package: TargetDecoy Version: 1.8.0 Command: /home/biocbuild/R/R-4.3.1/bin/R CMD INSTALL TargetDecoy StartedAt: 2023-11-01 21:00:05 -0000 (Wed, 01 Nov 2023) EndedAt: 2023-11-01 21:00:17 -0000 (Wed, 01 Nov 2023) EllapsedTime: 11.6 seconds RetCode: 0 Status: OK