Package: TargetDecoy Version: 1.8.0 Command: rm -rf TargetDecoy.buildbin-libdir && mkdir TargetDecoy.buildbin-libdir && /Users/biocbuild/BBS/utils/build-universal.sh TargetDecoy_1.8.0.tar.gz /Library/Frameworks/R.framework/Resources/bin/R TargetDecoy.buildbin-libdir StartedAt: 2024-03-04 01:08:09 -0500 (Mon, 04 Mar 2024) EndedAt: 2024-03-04 01:08:24 -0500 (Mon, 04 Mar 2024) EllapsedTime: 14.7 seconds RetCode: 0 Status: OK PackageFile: TargetDecoy_1.8.0.tgz PackageFileSize: 3.709 MiB