Package: TargetDecoy Version: 1.8.0 Command: /Library/Frameworks/R.framework/Resources/bin/R CMD build --keep-empty-dirs --no-resave-data TargetDecoy StartedAt: 2024-04-15 22:28:56 -0400 (Mon, 15 Apr 2024) EndedAt: 2024-04-15 22:30:13 -0400 (Mon, 15 Apr 2024) EllapsedTime: 77.1 seconds RetCode: 0 Status: OK PackageFile: TargetDecoy_1.8.0.tar.gz PackageFileSize: 4.172 MiB