Package: TargetSearch Version: 2.4.2 Command: /Library/Frameworks/R.framework/Resources/bin/R CMD build --keep-empty-dirs --no-resave-data TargetSearch StartedAt: 2024-04-15 22:29:18 -0400 (Mon, 15 Apr 2024) EndedAt: 2024-04-15 22:30:33 -0400 (Mon, 15 Apr 2024) EllapsedTime: 74.6 seconds RetCode: 0 Status: OK PackageFile: TargetSearch_2.4.2.tar.gz PackageFileSize: 709.4 KiB