Package: TargetSearch Version: 2.4.2 Command: /home/biocbuild/bbs-3.18-bioc/R/bin/R CMD check --install=check:TargetSearch.install-out.txt --library=/home/biocbuild/bbs-3.18-bioc/R/site-library --timings TargetSearch_2.4.2.tar.gz StartedAt: 2024-04-16 04:39:54 -0400 (Tue, 16 Apr 2024) EndedAt: 2024-04-16 04:41:12 -0400 (Tue, 16 Apr 2024) EllapsedTime: 79.0 seconds RetCode: 0 Status: OK CheckDir: TargetSearch.Rcheck Warnings: 0