Package: TargetSearch Version: 2.4.2 Command: rm -rf TargetSearch.buildbin-libdir && mkdir TargetSearch.buildbin-libdir && F:\biocbuild\bbs-3.18-bioc\R\bin\R.exe CMD INSTALL --build --library=TargetSearch.buildbin-libdir TargetSearch_2.4.2.tar.gz StartedAt: 2024-04-16 07:47:16 -0400 (Tue, 16 Apr 2024) EndedAt: 2024-04-16 07:47:47 -0400 (Tue, 16 Apr 2024) EllapsedTime: 30.8 seconds RetCode: 0 Status: OK PackageFile: TargetSearch_2.4.2.zip PackageFileSize: 1.206 MiB