Package: TargetSearch Version: 2.4.2 Command: chmod a+r TargetSearch -R && F:\biocbuild\bbs-3.18-bioc\R\bin\R.exe CMD build --keep-empty-dirs --no-resave-data TargetSearch StartedAt: 2024-04-15 21:39:04 -0400 (Mon, 15 Apr 2024) EndedAt: 2024-04-15 21:39:51 -0400 (Mon, 15 Apr 2024) EllapsedTime: 46.9 seconds RetCode: 0 Status: OK PackageFile: TargetSearch_2.4.2.tar.gz PackageFileSize: 710.6 KiB